BEGIN:VCALENDAR
VERSION:2.0
PRODID:-//Connie Fredericks-Malone - ECPv6.15.20//NONSGML v1.0//EN
CALSCALE:GREGORIAN
METHOD:PUBLISH
X-WR-CALNAME:Connie Fredericks-Malone
X-ORIGINAL-URL:https://conniefredericksmalone.com
X-WR-CALDESC:Events for Connie Fredericks-Malone
REFRESH-INTERVAL;VALUE=DURATION:PT1H
X-Robots-Tag:noindex
X-PUBLISHED-TTL:PT1H
BEGIN:VTIMEZONE
TZID:UTC
BEGIN:STANDARD
TZOFFSETFROM:+0000
TZOFFSETTO:+0000
TZNAME:UTC
DTSTART:20220101T000000
END:STANDARD
END:VTIMEZONE
BEGIN:VEVENT
DTSTART;TZID=UTC:20240216T173000
DTEND;TZID=UTC:20240216T203000
DTSTAMP:20260422T103602
CREATED:20231209T161804Z
LAST-MODIFIED:20231209T161804Z
UID:450-1708104600-1708115400@conniefredericksmalone.com
SUMMARY:Prosecco Italian Restaurant & Jazz Bar
DESCRIPTION:
URL:https://conniefredericksmalone.com/event/prosecco-italian-restaurant-jazz-bar-5/
LOCATION:Prosecco Italian Restaurant & Jazz Bar\, 1550 NY-332\, Farmington\, NY\, 14425\, United States
END:VEVENT
BEGIN:VEVENT
DTSTART;TZID=UTC:20240203T173000
DTEND;TZID=UTC:20240203T203000
DTSTAMP:20260422T103602
CREATED:20231209T161632Z
LAST-MODIFIED:20231209T161632Z
UID:448-1706981400-1706992200@conniefredericksmalone.com
SUMMARY:Prosecco Italian Restaurant & Jazz Bar
DESCRIPTION:
URL:https://conniefredericksmalone.com/event/prosecco-italian-restaurant-jazz-bar-4/
LOCATION:Prosecco Italian Restaurant & Jazz Bar\, 1550 NY-332\, Farmington\, NY\, 14425\, United States
END:VEVENT
BEGIN:VEVENT
DTSTART;TZID=UTC:20240119T173000
DTEND;TZID=UTC:20240119T203000
DTSTAMP:20260422T103602
CREATED:20231209T161526Z
LAST-MODIFIED:20231209T161526Z
UID:446-1705685400-1705696200@conniefredericksmalone.com
SUMMARY:Prosecco Italian Restaurant & Jazz Bar
DESCRIPTION:
URL:https://conniefredericksmalone.com/event/prosecco-italian-restaurant-jazz-bar-3/
LOCATION:Prosecco Italian Restaurant & Jazz Bar\, 1550 NY-332\, Farmington\, NY\, 14425\, United States
END:VEVENT
BEGIN:VEVENT
DTSTART;TZID=UTC:20240106T173000
DTEND;TZID=UTC:20240106T203000
DTSTAMP:20260422T103602
CREATED:20231209T161342Z
LAST-MODIFIED:20231209T161342Z
UID:444-1704562200-1704573000@conniefredericksmalone.com
SUMMARY:Prosecco Italian Restaurant & Jazz Bar
DESCRIPTION:
URL:https://conniefredericksmalone.com/event/prosecco-italian-restaurant-jazz-bar-2/
LOCATION:Prosecco Italian Restaurant & Jazz Bar\, 1550 NY-332\, Farmington\, NY\, 14425\, United States
END:VEVENT
BEGIN:VEVENT
DTSTART;TZID=UTC:20231220T140000
DTEND;TZID=UTC:20231220T150000
DTSTAMP:20260422T103602
CREATED:20231209T161159Z
LAST-MODIFIED:20231209T161159Z
UID:441-1703080800-1703084400@conniefredericksmalone.com
SUMMARY:Holiday Music Concert
DESCRIPTION:
URL:https://conniefredericksmalone.com/event/holiday-music-concert/
LOCATION:Ferris Hills At West Lake\, 1 Ferris Hills\, Canandaigua\, NY\, 14424\, United States
ATTACH;FMTTYPE=image/jpeg:https://conniefredericksmalone.com/wp-content/uploads/2023/12/Holiday2023-scaled-1.jpg
END:VEVENT
BEGIN:VEVENT
DTSTART;TZID=UTC:20231215T173000
DTEND;TZID=UTC:20231215T203000
DTSTAMP:20260422T103602
CREATED:20231209T131119Z
LAST-MODIFIED:20231209T131119Z
UID:423-1702661400-1702672200@conniefredericksmalone.com
SUMMARY:Prosecco Italian Restaurant & Jazz Bar
DESCRIPTION: \n 
URL:https://conniefredericksmalone.com/event/prosecco-italian-restaurant-jazz-bar/
LOCATION:Prosecco Italian Restaurant & Jazz Bar\, 1550 NY-332\, Farmington\, NY\, 14425\, United States
ATTACH;FMTTYPE=image/jpeg:https://conniefredericksmalone.com/wp-content/uploads/2023/12/Prosecco-dec-15-23-1-scaled-1.jpg
END:VEVENT
END:VCALENDAR